View In:
ArcGIS JavaScript
ArcGIS Online Map Viewer
ArcGIS Earth
Service Description: Imagery/SDE_kubur_usj22_wsat
Name: Imagery/SDE_kubur_usj22_wsat
Description:
Single Fused Map Cache: false
Extent:
XMin: 101.58310424004708
YMin: 3.0204269264992587
XMax: 101.58887669590091
YMax: 3.025652663671643
Spatial Reference: 4326
(4326)
LatestVCSWkid(0)
Initial Extent:
XMin: 101.58310424004708
YMin: 3.0204269264992587
XMax: 101.58887669590091
YMax: 3.025652663671643
Spatial Reference: 4326
(4326)
LatestVCSWkid(0)
Full Extent:
XMin: 101.58310424004708
YMin: 3.0204269264992587
XMax: 101.58887669590091
YMax: 3.025652663671643
Spatial Reference: 4326
(4326)
LatestVCSWkid(0)
Pixel Size X: 2.7805664035788453E-7
Pixel Size Y: 2.789440147530843E-7
Band Count: 3
Pixel Type: U8
RasterFunction Infos: {"rasterFunctionInfos": [{
"name": "None",
"description": "",
"help": ""
}]}
Mensuration Capabilities: Basic
Inspection Capabilities:
Has Histograms: true
Has Colormap: false
Has Multi Dimensions : false
Rendering Rule:
Min Scale: 0
Max Scale: 0
Resampling: false
Copyright Text:
Service Data Type: esriImageServiceDataTypeRGB
Min Values: 0, 0, 0
Max Values: 255, 255, 255
Mean Values: 143.98658849642896, 143.75628939521005, 114.81910503256935
Standard Deviation Values: 50.70624231485658, 41.50316803811645, 54.24615458739658
Object ID Field:
Fields:
None
Default Mosaic Method: Center
Allowed Mosaic Methods:
SortField:
SortValue: null
Mosaic Operator: First
Default Compression Quality: 75
Default Resampling Method: Bilinear
Max Record Count: null
Max Image Height: 4100
Max Image Width: 15000
Max Download Image Count: null
Max Mosaic Image Count: null
Allow Raster Function: true
Allow Copy: true
Allow Analysis: true
Allow Compute TiePoints: false
Supports Statistics: false
Supports Advanced Queries: false
Use StandardizedQueries: true
Raster Type Infos:
Name: Raster Dataset
Description: Supports all ArcGIS Raster Datasets
Help:
Has Raster Attribute Table: false
Edit Fields Info: null
Ownership Based AccessControl For Rasters: null
Child Resources:
Info
Histograms
Statistics
Key Properties
Legend
Raster Function Infos
Supported Operations:
Export Image
Identify
Measure
Compute Histograms
Compute Statistics Histograms
Get Samples
Compute Class Statistics
Query Boundary
Compute Pixel Location
Compute Angles
Validate
Project