<?xml version="1.0" encoding="UTF-8" standalone="no"?>
<metadata xml:lang="en">
  <Esri>
    <CreaDate>20190219</CreaDate>
    <CreaTime>12500800</CreaTime>
    <ArcGISFormat>1.0</ArcGISFormat>
    <SyncOnce>FALSE</SyncOnce>
    <DataProperties>
      <lineage>
        <Process Date="20190219" Time="125008" ToolSource="c:\program files (x86)\arcgis\desktop10.6\ArcToolbox\Toolboxes\Data Management Tools.tbx\BuildPyramids">BuildPyramids "D:\data\Kubur Seksyen 22\ortho\kubur_usj22_wsat.tif" -1 NONE NEAREST DEFAULT 75 OVERWRITE</Process>
        <Process Date="20190219" Time="125134" ToolSource="c:\program files (x86)\arcgis\desktop10.6\ArcToolbox\Toolboxes\Data Management Tools.tbx\CalculateStatistics">CalculateStatistics "D:\data\Kubur Seksyen 22\ortho\kubur_usj22_wsat.tif" 1 1 # OVERWRITE "Feature Set"</Process>
        <Process Date="20190219" Time="132157" ToolSource="c:\program files (x86)\arcgis\desktop10.5\ArcToolbox\Toolboxes\Data Management Tools.tbx\CopyRaster">CopyRaster D:\MPSJ_EIS\FASA_3\JKHP\kubur\kubur_usj22_wsat.tif "Database Connections\EISDB.sde\EIS_DB2.DBO.kubur_usj22_wsat" # # 256 NONE NONE # NONE NONE "Esri Grid" NONE</Process>
        <Process Date="20190219" Time="134341" ToolSource="c:\program files (x86)\arcgis\desktop10.5\ArcToolbox\Toolboxes\Data Management Tools.tbx\BuildPyramids">BuildPyramids "Database Connections\EIS_DB2.sde\EIS_DB2.DBO.kubur_usj22_wsat" -1 NONE NEAREST DEFAULT 75 OVERWRITE</Process>
        <Process Date="20190219" Time="134427" ToolSource="c:\program files (x86)\arcgis\desktop10.5\ArcToolbox\Toolboxes\Data Management Tools.tbx\CalculateStatistics">CalculateStatistics "Database Connections\EIS_DB2.sde\EIS_DB2.DBO.kubur_usj22_wsat" 1 1 # OVERWRITE "Feature Set"</Process>
        <Process Date="20221222" Time="153428" ToolSource="c:\program files\arcgis\pro\Resources\ArcToolbox\toolboxes\Data Management Tools.tbx\CopyMultiple">CopyMultiple "'C:\Users\FAbdilah\OneDrive - Esri Malaysia Sdn Bhd\2022 MBSJ\Projects\Migration_MBSJ\EIS_DB2DBO.sde\EIS_DB2.DBO.map1' RasterDataset;'C:\Users\FAbdilah\OneDrive - Esri Malaysia Sdn Bhd\2022 MBSJ\Projects\Migration_MBSJ\EIS_DB2DBO.sde\EIS_DB2.DBO.kubur_usj22_wsat' RasterDataset" "C:\Users\FAbdilah\OneDrive - Esri Malaysia Sdn Bhd\2022 MBSJ\Projects\Migration_MBSJ\EIS_DB2GIS.sde" map1;kubur_usj22_wsat "EIS_DB2.DBO.map1 RasterDataset SDE.map1 #;EIS_DB2.DBO.kubur_usj22_wsat RasterDataset SDE.kubur_usj22_wsat #"</Process>
      </lineage>
      <itemProps>
        <itemName Sync="TRUE">EIS_DB2.DBO.kubur_usj22_wsat</itemName>
        <imsContentType Sync="TRUE">002</imsContentType>
        <nativeExtBox>
          <westBL Sync="TRUE">-0.500000</westBL>
          <eastBL Sync="TRUE">20759.500000</eastBL>
          <southBL Sync="TRUE">-18733.500000</southBL>
          <northBL Sync="TRUE">0.500000</northBL>
          <exTypeCode Sync="TRUE">1</exTypeCode>
        </nativeExtBox>
        <itemLocation>
          <linkage Sync="TRUE">Server=10.2.244.70; Service=sde:sqlserver:10.2.244.70; Database=EIS_DB2; User=sa; Version=dbo.DEFAULT</linkage>
          <protocol Sync="TRUE">ArcSDE Connection</protocol>
        </itemLocation>
      </itemProps>
    </DataProperties>
    <SyncDate>20190219</SyncDate>
    <SyncTime>13162200</SyncTime>
    <ModDate>20190219</ModDate>
    <ModTime>13162200</ModTime>
  </Esri>
  <dataIdInfo>
    <envirDesc Sync="TRUE"> Version 6.2 (Build 9200) ; Esri ArcGIS 10.5.0.6491</envirDesc>
    <dataLang>
      <languageCode Sync="TRUE" value="eng"/>
      <countryCode Sync="TRUE" value="MYS"/>
    </dataLang>
    <idCitation>
      <resTitle Sync="TRUE">SDE_kubur_usj22_wsat</resTitle>
      <presForm>
        <PresFormCd Sync="TRUE" value="011"/>
      </presForm>
    </idCitation>
    <spatRpType>
      <SpatRepTypCd Sync="TRUE" value="002"/>
    </spatRpType>
    <idAbs/>
    <idPurp/>
    <idCredit/>
    <resConst>
      <Consts>
        <useLimit/>
      </Consts>
    </resConst>
  </dataIdInfo>
  <mdLang>
    <languageCode Sync="TRUE" value="eng"/>
    <countryCode Sync="TRUE" value="MYS"/>
  </mdLang>
  <distInfo>
    <distFormat>
      <formatName Sync="TRUE">SDE Raster Dataset</formatName>
    </distFormat>
  </distInfo>
  <mdHrLv>
    <ScopeCd Sync="TRUE" value="005"/>
  </mdHrLv>
  <mdHrLvName Sync="TRUE">dataset</mdHrLvName>
  <spdoinfo>
    <rastinfo>
      <rasttype Sync="TRUE">Pixel</rasttype>
      <rowcount Sync="TRUE">18734</rowcount>
      <colcount Sync="TRUE">20760</colcount>
      <rastxsz Sync="TRUE">1.000000</rastxsz>
      <rastysz Sync="TRUE">1.000000</rastysz>
      <rastbpp Sync="TRUE">8</rastbpp>
      <vrtcount Sync="TRUE">1</vrtcount>
      <rastorig Sync="TRUE">Upper Left</rastorig>
      <rastcmap Sync="TRUE">FALSE</rastcmap>
      <rastcomp Sync="TRUE">LZ77</rastcomp>
      <rastband Sync="TRUE">3</rastband>
      <rastdtyp Sync="TRUE">pixel codes</rastdtyp>
      <rastifor Sync="TRUE">SDR</rastifor>
      <rastplyr Sync="TRUE">TRUE</rastplyr>
    </rastinfo>
  </spdoinfo>
  <spref>
    <horizsys>
      <planar>
        <planci>
          <plance Sync="TRUE">row and column</plance>
          <coordrep>
            <absres Sync="TRUE">1.000000</absres>
            <ordres Sync="TRUE">1.000000</ordres>
          </coordrep>
        </planci>
      </planar>
    </horizsys>
  </spref>
  <mdDateSt Sync="TRUE">20190219</mdDateSt>
</metadata>
